BEGIN:VCALENDAR
VERSION:2.0
PRODID:-//eventon.com NONSGML v1.0//EN
CALSCALE:GREGORIAN
METHOD:PUBLISH
BEGIN:VEVENT
UID:69e74ad97ef04
DTSTAMP:20260421T100057Z
DTSTART:20260603T100000Z
DTEND:20260605T170000Z
LOCATION:Vedatya Institute Garhi Bazidpur\,  Gurugram\,  Haryana 122102
SUMMARY:Vedatya Summer Program 2026: Learn\,  Explore\,  Connect
DESCRIPTION:Vedatya Summer Program offers an opportunity to learners in cla
 sses 9th\,  10th\,  11th &amp; 12th to experience our unique learning appro
 ach\,  take part in varied academic and social activities alongside like- m
 inded people from all over the country. In 2026 we intend to cover the foll
 owing streams at our Summer[..]\nhttps://www.vedatya.ac.in/campus-life/even
 ts/summer-programs-2026/
URL:https://www.vedatya.ac.in/campus-life/events/summer-programs-2026/
END:VEVENT
END:VCALENDAR