BEGIN:VCALENDAR
VERSION:2.0
PRODID:-//eventon.com NONSGML v1.0//EN
CALSCALE:GREGORIAN
METHOD:PUBLISH
BEGIN:VEVENT
UID:69eaccf718408
DTSTAMP:20260424T015255Z
DTSTART:20210408T203000Z
DTEND:20210409T033000Z
LOCATION:Online
SUMMARY:College Chef Competition | 2020
DESCRIPTION:Vedatya&#8217;s invites hospitality students for its college cu
 linary competition. The participants will have to go through 3 rounds to co
 mpete for the winners&#8217; title. These participants will be encouraged t
 o be as imaginative and creative in presenting the dishes of their choices.
  The judgement will be done by a panel[..]\nhttps://www.vedatya.ac.in/campu
 s-life/events/college-chef-competition-2020/
URL:https://www.vedatya.ac.in/campus-life/events/college-chef-competition-2020/
END:VEVENT
END:VCALENDAR